BEGIN:VCALENDAR
VERSION:2.0
PRODID:-//hacksw/handcal//NONSGML v1.0//EN
CALSCALE:GREGORIAN
BEGIN:VEVENT
ORGANIZER;CN=Air Products:MAILTO:no-reply@mail.gcs-web.com
DTEND:
UID:bf62958d-ba55-4b0c-9e7f-6cf9f322c8d8
DTSTAMP:1631135756
LOCATION:http://investors.airproducts.com/events/event-details/barclays-ceo-energy-power-conference
DESCRIPTION:Event Details http://investors.airproducts.com/events/event-details/barclays-ceo-energy-power-conference
URL;VALUE=URI:http://investors.airproducts.com/events/event-details/barclays-ceo-energy-power-conference
SUMMARY:Air Products - Barclays CEO Energy-Power Conference – Panel:  “The Emerging Hydrogen Economy”
DTSTART:20210910T040000Z
END:VEVENT
END:VCALENDAR